BEGIN:VCALENDAR
VERSION:2.0
PRODID:-//NordEst Informatica - ECPv6.15.20//NONSGML v1.0//EN
CALSCALE:GREGORIAN
METHOD:PUBLISH
X-WR-CALNAME:NordEst Informatica
X-ORIGINAL-URL:https://neinformatica.it
X-WR-CALDESC:Eventi per NordEst Informatica
REFRESH-INTERVAL;VALUE=DURATION:PT1H
X-Robots-Tag:noindex
X-PUBLISHED-TTL:PT1H
BEGIN:VTIMEZONE
TZID:Europe/Rome
BEGIN:DAYLIGHT
TZOFFSETFROM:+0100
TZOFFSETTO:+0200
TZNAME:CEST
DTSTART:20250330T010000
END:DAYLIGHT
BEGIN:STANDARD
TZOFFSETFROM:+0200
TZOFFSETTO:+0100
TZNAME:CET
DTSTART:20251026T010000
END:STANDARD
BEGIN:DAYLIGHT
TZOFFSETFROM:+0100
TZOFFSETTO:+0200
TZNAME:CEST
DTSTART:20260329T010000
END:DAYLIGHT
BEGIN:STANDARD
TZOFFSETFROM:+0200
TZOFFSETTO:+0100
TZNAME:CET
DTSTART:20261025T010000
END:STANDARD
BEGIN:DAYLIGHT
TZOFFSETFROM:+0100
TZOFFSETTO:+0200
TZNAME:CEST
DTSTART:20270328T010000
END:DAYLIGHT
BEGIN:STANDARD
TZOFFSETFROM:+0200
TZOFFSETTO:+0100
TZNAME:CET
DTSTART:20271031T010000
END:STANDARD
END:VTIMEZONE
BEGIN:VEVENT
DTSTART;TZID=Europe/Rome:20260204T113000
DTEND;TZID=Europe/Rome:20260204T123000
DTSTAMP:20260420T120825
CREATED:20260129T132132Z
LAST-MODIFIED:20260129T132133Z
UID:10000500-1770204600-1770208200@neinformatica.it
SUMMARY:XFir obbligo dal 13 febbraio: sei pronto per l’adeguamento normativo?
DESCRIPTION:TeamSystem Waste è la risposta innovativa\, pay-per-use\, per una gestione digitale\, sicura e conforme di tutti gli adempimenti RENTRI. \n\n\n\nPartecipa al webinar e preparati all’ultimo grande appuntamento per la regolarizzazione della gestione dei rifiuti aziendali. \n\n\n\nScopri come affrontare in modo efficace la nuova finestra di iscrizione al Registro Elettronico Nazionale e ottimizzare tutti gli obblighi con un software sicuro\, semplice\, sempre aggiornato. \n\n\n\nProgramma: \n\n\n\n\nTerza finestra RENTRI: come la piattaforma TeamSystem Waste semplifica la gestione dei rifiuti aziendali e la conformità RENTRI\n\n\n\nXFIR e TS Waste: facilita la compilazione\, la firma digitale\, la vidimazione e il monitoraggio in tempo reale dei formulari FIR\, garantendo conformità normativa e maggiore efficienza operativa\n\n\n\nDemo pratica di TeamSystem Waste e casi concreti di utilizzo\n\n\n\nQuestion Time\n\n\n\n\n \n\n\n\n\n\n\n\n \n\n\n\nRiceverai una e-mail con il link e le istruzioni per il collegamento entro il giorno stesso del webinar (15 minuti prima del suo inizio) \n\n\n\nPer eventuali problemi tecnici o per ricevere maggiori informazioni non esitare a contattarci all’indirizzo email marketing@neinformatica.it
URL:https://neinformatica.it/webinar/xfir-obbligo-dal-13-febbraio-sei-pronto-per-ladeguamento-normativo/
CATEGORIES:Digitalizzazione
ATTACH;FMTTYPE=image/jpeg:https://neinformatica.it/wp-content/uploads/2025/01/RENTRI-1.jpeg
END:VEVENT
BEGIN:VEVENT
DTSTART;TZID=Europe/Rome:20260211T110000
DTEND;TZID=Europe/Rome:20260211T120000
DTSTAMP:20260420T120825
CREATED:20260129T135103Z
LAST-MODIFIED:20260129T135105Z
UID:10000501-1770807600-1770811200@neinformatica.it
SUMMARY:Proteggi la tua attività dagli attacchi informatici partendo dall'email!
DESCRIPTION:Gli attacchi informatici alle PMI sono aumentati del 300% nell’ultimo anno e oltre il 90% parte da una e-mail compromessa. Anche una sola password esposta può avere conseguenze gravi. \n\n\n\nPartecipa al webinar e scopri come avere sotto controllo lo stato di salute della tua email e del tuo sito e prevenire così attacchi e danni che possono bloccare l’attività lavorativa. \n\n\n\nL’obiettivo sarà mostrare come TeamSystem Cybersecurity consente di monitorare e-mail dominio\, sito web e altri asset digitali per individuare punti deboli e intervenite. \n\n\n\nProgramma:  \n\n\n\n\nStrategie e consigli pratici per sviluppare una cultura cyber in azienda\n\n\n\nDemo live della piattaforma TeamSystem Cybersecurity\n\n\n\nDomande e risposte con i nostri esperti\n\n\n\n\nIscriviti compilando la form sottostante. \n\n\n\nRiceverai una e-mail con il link e le istruzioni per il collegamento entro il giorno stesso del webinar (15 minuti prima del suo inizio). \n\n\n\nPer eventuali problemi tecnici o per ricevere maggiori informazioni non esitare a contattarci all’indirizzo email marketing@neinformatica.it
URL:https://neinformatica.it/webinar/proteggi-la-tua-attivita-dagli-attacchi-informatici-partendo-dallemail/
CATEGORIES:Gestionali
END:VEVENT
BEGIN:VEVENT
DTSTART;TZID=Europe/Rome:20260212T100000
DTEND;TZID=Europe/Rome:20260212T103000
DTSTAMP:20260420T120825
CREATED:20260129T135952Z
LAST-MODIFIED:20260129T135953Z
UID:10000502-1770890400-1770892200@neinformatica.it
SUMMARY:HR– i Trend emergenti per il 2026!
DESCRIPTION:Partecipa al webinar e scopri i nuovi trend 2026 che stanno ridisegnando il mondo delle risorse umane dalle innovazioni tecnologiche\, all’Intelligenza Artificiale\, passando per la crescente digitalizzazione dei processi HR. \n\n\n\nSarà un’occasione preziosa per anticipare i cambiamenti del mercato del lavoro\, comprendere le nuove esigenze delle persone e adattare le pratiche HR a un contesto sempre più dinamico e competitivo. \n\n\n\n Partecipa così da prepararti alle sfide e alle opportunità che caratterizzeranno i prossimi anni! \n\n\n\n\n\n\n\n\n\nSe sei curioso di scoprire di più partecipa al webinar GRATUITO lasciando i tuoi dati qui sotto. \n\n\n\nRiceverai un’ e-mail con il link e le istruzioni per il collegamento  15 MINUTI prima dell’inizio del webinar  \n\n\n\nPer eventuali problemi tecnici o per ricevere maggiori informazioni non esitare a contattarci all’indirizzo email marketing@neinformatica.it
URL:https://neinformatica.it/webinar/hr-i-trend-emergenti-per-il-2026/
CATEGORIES:HR
ATTACH;FMTTYPE=image/jpeg:https://neinformatica.it/wp-content/uploads/2022/12/hr-all-in-one.jpg
END:VEVENT
BEGIN:VEVENT
DTSTART;TZID=Europe/Rome:20260227T110000
DTEND;TZID=Europe/Rome:20260227T120000
DTSTAMP:20260420T120825
CREATED:20260129T141545Z
LAST-MODIFIED:20260129T141701Z
UID:10000503-1772190000-1772193600@neinformatica.it
SUMMARY:TeamSystem Manufacturing: il MES in Cloud per trasformare la tua azienda in una fabbrica digitale!
DESCRIPTION:Partecipa al webinar per comprendere come l’introduzione di un MES possa migliorare in maniera tangibile:  \n\n\n\n\nIl controllo delle attività in produzione\n\n\n\nL’affidabilità delle dichiarazioni degli operatori\n\n\n\nLa riduzione e semplificazione della gestione della documentazione cartacea\n\n\n\n\n\n\n\n\nProgramma:  \n\n\n\n\nPresentazione della soluzione MES in Cloud\n\n\n\nFocus live sul prodotto\n\n\n\nDomande e risposte\n\n\n\n\nIscriviti compilando la form sottostante. \n\n\n\nRiceverai una e-mail con il link e le istruzioni per il collegamento entro il giorno stesso del webinar (15 minuti prima del suo inizio). \n\n\n\nPer eventuali problemi tecnici o per ricevere maggiori informazioni non esitare a contattarci all’indirizzo email marketing@neinformatica.it
URL:https://neinformatica.it/webinar/teamsystem-manufacturing-il-mes-in-cloud-per-trasformare-la-tua-azienda-in-una-fabbrica-digitale-2/
CATEGORIES:Gestionali
ATTACH;FMTTYPE=image/png:https://neinformatica.it/wp-content/uploads/2023/01/INDUSTRIA4.0.png
END:VEVENT
END:VCALENDAR