BEGIN:VCALENDAR
VERSION:2.0
PRODID:-//NordEst Informatica - ECPv6.15.20//NONSGML v1.0//EN
CALSCALE:GREGORIAN
METHOD:PUBLISH
X-ORIGINAL-URL:https://neinformatica.it
X-WR-CALDESC:Eventi per NordEst Informatica
REFRESH-INTERVAL;VALUE=DURATION:PT1H
X-Robots-Tag:noindex
X-PUBLISHED-TTL:PT1H
BEGIN:VTIMEZONE
TZID:Europe/Rome
BEGIN:DAYLIGHT
TZOFFSETFROM:+0100
TZOFFSETTO:+0200
TZNAME:CEST
DTSTART:20250330T010000
END:DAYLIGHT
BEGIN:STANDARD
TZOFFSETFROM:+0200
TZOFFSETTO:+0100
TZNAME:CET
DTSTART:20251026T010000
END:STANDARD
BEGIN:DAYLIGHT
TZOFFSETFROM:+0100
TZOFFSETTO:+0200
TZNAME:CEST
DTSTART:20260329T010000
END:DAYLIGHT
BEGIN:STANDARD
TZOFFSETFROM:+0200
TZOFFSETTO:+0100
TZNAME:CET
DTSTART:20261025T010000
END:STANDARD
BEGIN:DAYLIGHT
TZOFFSETFROM:+0100
TZOFFSETTO:+0200
TZNAME:CEST
DTSTART:20270328T010000
END:DAYLIGHT
BEGIN:STANDARD
TZOFFSETFROM:+0200
TZOFFSETTO:+0100
TZNAME:CET
DTSTART:20271031T010000
END:STANDARD
END:VTIMEZONE
BEGIN:VEVENT
DTSTART;TZID=Europe/Rome:20260521T100000
DTEND;TZID=Europe/Rome:20260521T103000
DTSTAMP:20260421T160407
CREATED:20260421T074457Z
LAST-MODIFIED:20260421T074458Z
UID:10000514-1779357600-1779359400@neinformatica.it
SUMMARY:Scopri come l’intelligenza artificiale sta rivoluzionando la gestione delle risorse umane nei processi di selezione!
DESCRIPTION:Partecipa al webinar e scopri come l’intelligenza artificiale sta rivoluzionando il recruiting\, e come TeamSystem HR AI – Recruiting\, grazie all’integrazione con piattaforme come Trovo lavoro\, possa rendere più semplice la gestione delle candidature. \n\n\n\nTeamSystem HR AI – Recruiting utilizza l’intelligenza artificiale proprio per supportare questi processi. Partecipa al webinar per saperne di più!  \n\n\n\n \n\n\n\n\n\n\n\n\n\nSarà l’occasione per scoprire come software avanzati che utilizzano l’intelligenza artificiale stiano trasformando il modo in cui le aziende trovano e selezionano i talenti\, automatizzando molte delle fasi tradizionali del processo di assunzione\, migliorando l’efficienza\, la precisione e l’esperienza complessiva per candidati e utenti HR. \n\n\n\nL’AI può aiutare a ottimizzare la ricerca dei candidati\, ridurre i bias e prendere decisioni più informate\, rendendo il recruiting un processo più veloce e mirato. \n\n\n\nSe sei curioso di scoprire di più partecipa al webinar GRATUITO lasciando i tuoi dati qui sotto. \n\n\n\nRiceverai un’ e-mail con il link e le istruzioni per il collegamento  15 MINUTI prima dell’inizio del webinar  \n\n\n\nPer eventuali problemi tecnici o per ricevere maggiori informazioni non esitare a contattarci all’indirizzo email marketing@neinformatica.it
URL:https://neinformatica.it/webinar/scopri-come-lintelligenza-artificiale-sta-rivoluzionando-la-gestione-delle-risorse-umane-nei-processi-di-selezione/
CATEGORIES:HR
ATTACH;FMTTYPE=image/jpeg:https://neinformatica.it/wp-content/uploads/2022/12/hr-all-in-one.jpg
END:VEVENT
END:VCALENDAR