BEGIN:VCALENDAR
VERSION:2.0
PRODID:-//NordEst Informatica - ECPv6.15.20//NONSGML v1.0//EN
CALSCALE:GREGORIAN
METHOD:PUBLISH
X-ORIGINAL-URL:https://neinformatica.it
X-WR-CALDESC:Eventi per NordEst Informatica
REFRESH-INTERVAL;VALUE=DURATION:PT1H
X-Robots-Tag:noindex
X-PUBLISHED-TTL:PT1H
BEGIN:VTIMEZONE
TZID:Europe/Rome
BEGIN:DAYLIGHT
TZOFFSETFROM:+0100
TZOFFSETTO:+0200
TZNAME:CEST
DTSTART:20250330T010000
END:DAYLIGHT
BEGIN:STANDARD
TZOFFSETFROM:+0200
TZOFFSETTO:+0100
TZNAME:CET
DTSTART:20251026T010000
END:STANDARD
BEGIN:DAYLIGHT
TZOFFSETFROM:+0100
TZOFFSETTO:+0200
TZNAME:CEST
DTSTART:20260329T010000
END:DAYLIGHT
BEGIN:STANDARD
TZOFFSETFROM:+0200
TZOFFSETTO:+0100
TZNAME:CET
DTSTART:20261025T010000
END:STANDARD
BEGIN:DAYLIGHT
TZOFFSETFROM:+0100
TZOFFSETTO:+0200
TZNAME:CEST
DTSTART:20270328T010000
END:DAYLIGHT
BEGIN:STANDARD
TZOFFSETFROM:+0200
TZOFFSETTO:+0100
TZNAME:CET
DTSTART:20271031T010000
END:STANDARD
END:VTIMEZONE
BEGIN:VEVENT
DTSTART;TZID=Europe/Rome:20260422T110000
DTEND;TZID=Europe/Rome:20260422T120000
DTSTAMP:20260421T114650
CREATED:20260408T100109Z
LAST-MODIFIED:20260408T100140Z
UID:10000512-1776855600-1776859200@neinformatica.it
SUMMARY:Il controllo totale di finanza e Supply Chain in un unico ERP
DESCRIPTION:Partecipala al webinar e scopri un ERP in grado di integrare gestione finanziaria e Supply Chain\, garantendo controllo\, tracciabilità e continuità operativa lungo tutti i processi aziendali\, anche in contesti organizzativi complessi. \n\n\n\n\n\n\n\nProgramma:  \n\n\n\n\nTeamSystem Enterprise: la piattaforma ERP integrata per finanza e Supply Chain\n\n\n\nArea Finance: controllo dei processi amministrativi\, finanziari e di gestione\n\n\n\nArea SCM: gestione evoluta di vendite\, acquisti e magazzino\n\n\n\nIntelligenza Artificiale e Insight: come semplificare le attività operative e supportare decisioni rapide e consapevoli\n\n\n\nEcosistema digitale TeamSystem: fatturazione elettronica\, servizi fintech e strumenti di analisi integrati\n\n\n\n\nIscriviti compilando la form sottostante. \n\n\n\nRiceverai una e-mail con il link e le istruzioni per il collegamento entro il giorno stesso del webinar (15 minuti prima del suo inizio). \n\n\n\nPer eventuali problemi tecnici o per ricevere maggiori informazioni non esitare a contattarci all’indirizzo email marketing@neinformatica.it
URL:https://neinformatica.it/webinar/il-controllo-totale-di-finanza-e-supply-chain-in-un-unico-erp/
CATEGORIES:Gestionali
ATTACH;FMTTYPE=image/jpeg:https://neinformatica.it/wp-content/uploads/2024/06/NE-IMG-hero-Pillar-Page.jpg
END:VEVENT
BEGIN:VEVENT
DTSTART;TZID=Europe/Rome:20260512T110000
DTEND;TZID=Europe/Rome:20260512T120000
DTSTAMP:20260421T114650
CREATED:20260421T073237Z
LAST-MODIFIED:20260421T073318Z
UID:10000513-1778583600-1778587200@neinformatica.it
SUMMARY:L'Azienda digitale a 360°: firma\, gestione PEC\, identità e sicurezza in un unico ecosistema
DESCRIPTION:Le Aziende stanno vivendo una trasformazione profonda: firme\, PEC\, deleghe\, conservazione documenti e protezione dei dati richiedono strumenti efficienti per evitare errori\, rallentamenti e rischi operativi.Oggi\, più che mai\, digitalizzare i processi è essenziale per lavorare meglio\, più velocemente e in totale sicurezza. \n\n\n\nCon flussi documentali sempre più complessi e oltre il 90% delle violazioni che partono da una e‑mail compromessa\, è fondamentale poter contare su un ecosistema sicuro e integrato che gestisca firma elettronica\, PEC\, identità digitale\, sicurezza e conservazione a norma in un unico ambiente. \n\n\n\nIl webinar ti mostrerà come portare la tua Azienda verso una digitalizzazione completa\, grazie alle soluzioni TeamSystem pensate per semplificare ogni fase del lavoro quotidiano. \n\n\n\n \n\n\n\n\n\n\n\nProgramma:  \n\n\n\n\nCome firmare e approvare documenti direttamente dal gestionale con TeamSystem Signature\n\n\n\nCome centralizzare\, automatizzare e organizzare le caselle PEC dell’Azienda con PEC Manager AI\n\n\n\nCome gestire l’identità digitale dei clienti con SPID e video‑identificazione semplificando i processi di delega e onboarding\n\n\n\nCome conservare a norma documenti\, PEC e archivi digitali con TeamSystem Archive\n\n\n\nCome migliorare la sicurezza informatica della tua Azienda con strumenti di monitoraggio su e‑mail\, dominio (sito web) e presenza online\n\n\n\nDomande e risposte con gli esperti Teamsystem\n\n\n\n\n \n\n\n\nL’obiettivo del webinar è mostrare come costruire un’Azienda completamente digitale\, integrando in un unico ecosistema: \n\n\n\n\nFirma elettronica e flussi approvativi\n\n\n\nPEC e comunicazioni ufficiali\n\n\n\nIdentità digitale e video‑riconoscimento\n\n\n\nConservazione digitale a norma\n\n\n\nStrumenti cyber per monitorare la propria esposizione online (email\, sito web\, dominio aziendale e molto altro)\n\n\n\n\nImparerai come ottimizzare ogni fase del ciclo documentale: dalla firma alla conservazione\, dalla gestione PEC alla sicurezza\, per rendere la tua Azienda veloce ed efficiente. \n\n\n\nIscriviti lasciando i tuoi dati qui sotto. \n\n\n\nRiceverai una e-mail con il link e le istruzioni per il collegamento entro il giorno stesso del webinar (15 minuti prima del suo inizio) \n\n\n\nPer eventuali problemi tecnici o per ricevere maggiori informazioni non esitare a contattarci all’indirizzo email marketing@neinformatica.it
URL:https://neinformatica.it/webinar/lazienda-digitale-a-360-firma-gestione-pec-identita-e-sicurezza-in-un-unico-ecosistema-2/
CATEGORIES:CRM
ATTACH;FMTTYPE=image/jpeg:https://neinformatica.it/wp-content/uploads/2024/03/Transizione5.0.jpg
END:VEVENT
BEGIN:VEVENT
DTSTART;TZID=Europe/Rome:20260521T100000
DTEND;TZID=Europe/Rome:20260521T103000
DTSTAMP:20260421T114650
CREATED:20260421T074457Z
LAST-MODIFIED:20260421T074458Z
UID:10000514-1779357600-1779359400@neinformatica.it
SUMMARY:Scopri come l’intelligenza artificiale sta rivoluzionando la gestione delle risorse umane nei processi di selezione!
DESCRIPTION:Partecipa al webinar e scopri come l’intelligenza artificiale sta rivoluzionando il recruiting\, e come TeamSystem HR AI – Recruiting\, grazie all’integrazione con piattaforme come Trovo lavoro\, possa rendere più semplice la gestione delle candidature. \n\n\n\nTeamSystem HR AI – Recruiting utilizza l’intelligenza artificiale proprio per supportare questi processi. Partecipa al webinar per saperne di più!  \n\n\n\n \n\n\n\n\n\n\n\n\n\nSarà l’occasione per scoprire come software avanzati che utilizzano l’intelligenza artificiale stiano trasformando il modo in cui le aziende trovano e selezionano i talenti\, automatizzando molte delle fasi tradizionali del processo di assunzione\, migliorando l’efficienza\, la precisione e l’esperienza complessiva per candidati e utenti HR. \n\n\n\nL’AI può aiutare a ottimizzare la ricerca dei candidati\, ridurre i bias e prendere decisioni più informate\, rendendo il recruiting un processo più veloce e mirato. \n\n\n\nSe sei curioso di scoprire di più partecipa al webinar GRATUITO lasciando i tuoi dati qui sotto. \n\n\n\nRiceverai un’ e-mail con il link e le istruzioni per il collegamento  15 MINUTI prima dell’inizio del webinar  \n\n\n\nPer eventuali problemi tecnici o per ricevere maggiori informazioni non esitare a contattarci all’indirizzo email marketing@neinformatica.it
URL:https://neinformatica.it/webinar/scopri-come-lintelligenza-artificiale-sta-rivoluzionando-la-gestione-delle-risorse-umane-nei-processi-di-selezione/
CATEGORIES:HR
ATTACH;FMTTYPE=image/jpeg:https://neinformatica.it/wp-content/uploads/2022/12/hr-all-in-one.jpg
END:VEVENT
END:VCALENDAR