BEGIN:VCALENDAR
VERSION:2.0
PRODID:-//NordEst Informatica - ECPv6.15.20//NONSGML v1.0//EN
CALSCALE:GREGORIAN
METHOD:PUBLISH
X-ORIGINAL-URL:https://neinformatica.it
X-WR-CALDESC:Eventi per NordEst Informatica
REFRESH-INTERVAL;VALUE=DURATION:PT1H
X-Robots-Tag:noindex
X-PUBLISHED-TTL:PT1H
BEGIN:VTIMEZONE
TZID:Europe/Rome
BEGIN:DAYLIGHT
TZOFFSETFROM:+0100
TZOFFSETTO:+0200
TZNAME:CEST
DTSTART:20220327T010000
END:DAYLIGHT
BEGIN:STANDARD
TZOFFSETFROM:+0200
TZOFFSETTO:+0100
TZNAME:CET
DTSTART:20221030T010000
END:STANDARD
BEGIN:DAYLIGHT
TZOFFSETFROM:+0100
TZOFFSETTO:+0200
TZNAME:CEST
DTSTART:20230326T010000
END:DAYLIGHT
BEGIN:STANDARD
TZOFFSETFROM:+0200
TZOFFSETTO:+0100
TZNAME:CET
DTSTART:20231029T010000
END:STANDARD
BEGIN:DAYLIGHT
TZOFFSETFROM:+0100
TZOFFSETTO:+0200
TZNAME:CEST
DTSTART:20240331T010000
END:DAYLIGHT
BEGIN:STANDARD
TZOFFSETFROM:+0200
TZOFFSETTO:+0100
TZNAME:CET
DTSTART:20241027T010000
END:STANDARD
BEGIN:DAYLIGHT
TZOFFSETFROM:+0100
TZOFFSETTO:+0200
TZNAME:CEST
DTSTART:20250330T010000
END:DAYLIGHT
BEGIN:STANDARD
TZOFFSETFROM:+0200
TZOFFSETTO:+0100
TZNAME:CET
DTSTART:20251026T010000
END:STANDARD
END:VTIMEZONE
BEGIN:VEVENT
DTSTART;TZID=Europe/Rome:20230517T110000
DTEND;TZID=Europe/Rome:20230517T113000
DTSTAMP:20260421T073945
CREATED:20230419T094953Z
LAST-MODIFIED:20230419T125707Z
UID:10000366-1684321200-1684323000@neinformatica.it
SUMMARY:Industry 4.0: Pianificazione e Schedulazione della produzione
DESCRIPTION:Scopri la pianificazione e schedulazione della produzione.Efficienta materiali e risorse con la pianificazione e schedulazione di TS Industry 4.0.Lo scopo sarà farti comprendere come gestire al meglio la pianificazione e schedulazione della produzione della tua azienda controllando lead-time di approvvigionamento\, il costo delle materie prime\, i cicli di lavoro\, la capacità produttiva e le altre variabili interne al ciclo produttivo. \n\n\n\n\n\n\n\nProgramma:  \n\n\n\n\nPresentazione della soluzione di pianificazione e schedulazione\n\n\n\nFocus live sul prodotto\n\n\n\nDomande e risposte\n\n\n\n\nIscriviti compilando la form sottostante \n\n\n\nRiceverai una e-mail con il link e le istruzioni per il collegamento entro il giorno stesso del webinar (15 minuti prima del suo inizio) \n\n\n\nPer eventuali problemi tecnici o per ricevere maggiori informazioni non esitare a contattarci all’indirizzo email marketing@neinformatica.it
URL:https://neinformatica.it/webinar/industry-4-0-pianificazione-e-schedulazione-della-produzione-2/
CATEGORIES:Produzione
ATTACH;FMTTYPE=image/png:https://neinformatica.it/wp-content/uploads/2023/01/INDUSTRIA4.0.png
END:VEVENT
BEGIN:VEVENT
DTSTART;TZID=Europe/Rome:20230620T103000
DTEND;TZID=Europe/Rome:20230620T110000
DTSTAMP:20260421T073945
CREATED:20230518T151016Z
LAST-MODIFIED:20230518T151025Z
UID:10000374-1687257000-1687258800@neinformatica.it
SUMMARY:Migliora l'efficienza della tua linea produttiva con le soluzioni di TeamSystem per l’Industy 4.0
DESCRIPTION:Il webinar si rivolge ai responsabili di produzione che vogliono digitalizzare e interconnettere i processi produttivi grazie al software. \n\n\n\nSarà l’occasione per farti scoprire come gestire efficientemente il processo produttivo con TeamSystem Industry 4.0.  \n\n\n\n\n\n\n\nProgramma:  \n\n\n\n\nOverview sul contesto di mercato di riferimento\n\n\n\nPianificazione avanzata e programmazione della produzione\n\n\n\nFocus sulla soluzione MES e Shop Floor Analytics  \n\n\n\n\nIscriviti compilando la form sottostante \n\n\n\nRiceverai una e-mail con il link e le istruzioni per il collegamento entro il giorno stesso del webinar (15 minuti prima del suo inizio) \n\n\n\nPer eventuali problemi tecnici o per ricevere maggiori informazioni non esitare a contattarci all’indirizzo email marketing@neinformatica.it
URL:https://neinformatica.it/webinar/migliora-lefficienza-della-tua-linea-produttiva-con-le-soluzioni-di-teamsystem-per-lindusty-4-0/
CATEGORIES:Produzione
ATTACH;FMTTYPE=image/png:https://neinformatica.it/wp-content/uploads/2023/01/INDUSTRIA4.0.png
END:VEVENT
BEGIN:VEVENT
DTSTART;TZID=Europe/Rome:20230706T110000
DTEND;TZID=Europe/Rome:20230706T113000
DTSTAMP:20260421T073945
CREATED:20230614T080256Z
LAST-MODIFIED:20230614T080305Z
UID:10000378-1688641200-1688643000@neinformatica.it
SUMMARY:Monitora l'avanzamento del lavoro e lo stato delle macchine in fabbrica con TS Industry 4.0
DESCRIPTION:Il webinar si rivolge ai responsabili di produzione che vogliono efficientare il processo produttivo. \n\n\n\nSarà l’occasione per farti scoprire TeamSystem Industry 4.0. la soluzione ideale per monitorare l’avanzamento del lavoro e lo stato delle macchine all’interno della tua fabbrica \n\n\n\n\n\n\n\nProgramma:  \n\n\n\n\nPresentazione della soluzione TS Industry 4.0\n\n\n\nFocus live sul prodotto  \n\n\n\n\nL’obiettivo del webinar è comprendere come gestire al meglio l’avanzamento del lavoro e lo stato delle macchine della tua azienda\, controllando lead-time di approvvigionamento\, costo delle materie prime\, cicli di lavoro\, capacità produttiva e le altre variabili interne al ciclo produttivo  \n\n\n\nIscriviti compilando la form sottostante \n\n\n\nRiceverai una e-mail con il link e le istruzioni per il collegamento entro il giorno stesso del webinar (15 minuti prima del suo inizio) \n\n\n\nPer eventuali problemi tecnici o per ricevere maggiori informazioni non esitare a contattarci all’indirizzo email marketing@neinformatica.it
URL:https://neinformatica.it/webinar/monitora-lavanzamento-del-lavoro-e-lo-stato-delle-macchine-in-fabbrica-con-ts-industry-4-0-2/
CATEGORIES:Produzione
ATTACH;FMTTYPE=image/png:https://neinformatica.it/wp-content/uploads/2023/01/INDUSTRIA4.0.png
END:VEVENT
BEGIN:VEVENT
DTSTART;TZID=Europe/Rome:20240130T113000
DTEND;TZID=Europe/Rome:20240130T121500
DTSTAMP:20260421T073945
CREATED:20240102T145816Z
LAST-MODIFIED:20240102T145917Z
UID:10000421-1706614200-1706616900@neinformatica.it
SUMMARY:Industry 4.0: Pianificazione e Schedulazione della produzione
DESCRIPTION:Scopri come ottimizzare i tuoi programmi di produzione ed il carico delle tue risorse con il nostro Planner! \n\n\n\nL’obiettivo del webinar è comprendere come gestire al meglio la pianificazione e schedulazione della produzione sfruttando uno strumento dinamico che non solo tiene conto della reale capacità produttiva delle macchine ma è in grado di adattarsi alle diverse situazioni di criticità che caratterizzano il mondo della pianificazione! \n\n\n\n\n\n\n\nProgramma:  \n\n\n\n\nIntroduzione al contesto di mercato\n\n\n\nPresentazione della soluzione di pianificazione e schedulazione\n\n\n\nFocus live sul prodotto\n\n\n\nDomande e risposte\n\n\n\n\nIscriviti compilando la form sottostante \n\n\n\nRiceverai una e-mail con il link e le istruzioni per il collegamento entro il giorno stesso del webinar (15 minuti prima del suo inizio) \n\n\n\nPer eventuali problemi tecnici o per ricevere maggiori informazioni non esitare a contattarci all’indirizzo email marketing@neinformatica.it
URL:https://neinformatica.it/webinar/industry-4-0-pianificazione-e-schedulazione-della-produzione-3/
CATEGORIES:Produzione
ATTACH;FMTTYPE=image/png:https://neinformatica.it/wp-content/uploads/2023/01/INDUSTRIA4.0.png
END:VEVENT
BEGIN:VEVENT
DTSTART;TZID=Europe/Rome:20240529T163000
DTEND;TZID=Europe/Rome:20240529T171500
DTSTAMP:20260421T073945
CREATED:20240412T094913Z
LAST-MODIFIED:20240412T094922Z
UID:10000448-1717000200-1717002900@neinformatica.it
SUMMARY:Pianificazione e Schedulazione della produzione
DESCRIPTION:L’obiettivo del webinar è farti scoprire come ottimizzare i tuoi programmi di produzione ed il carico delle tue risorse con il nostro Planner! \n\n\n\nL’evento si rivolge a tutti li stakeholders coinvolti nel processo produttivo (Ufficio acquisti\, pianificatori e responsabili di produzione). \n\n\n\nComprenderai come gestire al meglio la pianificazione della produzione sfruttando uno strumento dinamico che\, non solo tiene conto della reale capacità produttiva delle macchine\, ma è in grado di adattarsi alle diverse situazioni di criticità che caratterizzano il mondo della pianificazione! \n\n\n\n\n\n\n\nProgramma:  \n\n\n\n\nPresentazione della soluzione di pianificazione e schedulazione\n\n\n\nFocus live sul prodotto\n\n\n\nDomande e risposte\n\n\n\n\nIscriviti compilando la form sottostante \n\n\n\nRiceverai una e-mail con il link e le istruzioni per il collegamento entro il giorno stesso del webinar (15 minuti prima del suo inizio) \n\n\n\nPer eventuali problemi tecnici o per ricevere maggiori informazioni non esitare a contattarci all’indirizzo email marketing@neinformatica.it
URL:https://neinformatica.it/webinar/pianificazione-e-schedulazione-della-produzione/
CATEGORIES:Produzione
ATTACH;FMTTYPE=image/png:https://neinformatica.it/wp-content/uploads/2023/01/INDUSTRIA4.0.png
END:VEVENT
BEGIN:VEVENT
DTSTART;TZID=Europe/Rome:20241017T110000
DTEND;TZID=Europe/Rome:20241017T114500
DTSTAMP:20260421T073945
CREATED:20240927T102014Z
LAST-MODIFIED:20240927T102022Z
UID:10000473-1729162800-1729165500@neinformatica.it
SUMMARY:Industry 4.0 Pianificazione e Schedulazione della produzione
DESCRIPTION:L’obiettivo del webinar è farti scoprire come ottimizzare i tuoi programmi di produzione ed il carico delle tue risorse con il nostro Planner! \n\n\n\nL’evento si rivolge a tutti li stakeholders coinvolti nel processo produttivo (Ufficio acquisti\, pianificatori e responsabili di produzione). \n\n\n\nComprenderai come gestire al meglio la pianificazione della produzione sfruttando uno strumento dinamico che\, non solo tiene conto della reale capacità produttiva delle macchine\, ma è in grado di adattarsi alle diverse situazioni di criticità che caratterizzano il mondo della pianificazione! \n\n\n\n\n\n\n\nProgramma:  \n\n\n\n\nPresentazione della soluzione di pianificazione e schedulazione\n\n\n\nFocus live sul prodotto\n\n\n\nDomande e risposte\n\n\n\n\nIscriviti compilando la form sottostante \n\n\n\nRiceverai una e-mail con il link e le istruzioni per il collegamento entro il giorno stesso del webinar (15 minuti prima del suo inizio) \n\n\n\nPer eventuali problemi tecnici o per ricevere maggiori informazioni non esitare a contattarci all’indirizzo email marketing@neinformatica.it
URL:https://neinformatica.it/webinar/industry-4-0-pianificazione-e-schedulazione-della-produzione-4/
CATEGORIES:Produzione
ATTACH;FMTTYPE=image/png:https://neinformatica.it/wp-content/uploads/2023/01/INDUSTRIA4.0.png
END:VEVENT
END:VCALENDAR