BEGIN:VCALENDAR
VERSION:2.0
PRODID:-//NordEst Informatica - ECPv6.15.20//NONSGML v1.0//EN
CALSCALE:GREGORIAN
METHOD:PUBLISH
X-WR-CALNAME:NordEst Informatica
X-ORIGINAL-URL:https://neinformatica.it
X-WR-CALDESC:Eventi per NordEst Informatica
REFRESH-INTERVAL;VALUE=DURATION:PT1H
X-Robots-Tag:noindex
X-PUBLISHED-TTL:PT1H
BEGIN:VTIMEZONE
TZID:Europe/Rome
BEGIN:DAYLIGHT
TZOFFSETFROM:+0100
TZOFFSETTO:+0200
TZNAME:CEST
DTSTART:20220327T010000
END:DAYLIGHT
BEGIN:STANDARD
TZOFFSETFROM:+0200
TZOFFSETTO:+0100
TZNAME:CET
DTSTART:20221030T010000
END:STANDARD
BEGIN:DAYLIGHT
TZOFFSETFROM:+0100
TZOFFSETTO:+0200
TZNAME:CEST
DTSTART:20230326T010000
END:DAYLIGHT
BEGIN:STANDARD
TZOFFSETFROM:+0200
TZOFFSETTO:+0100
TZNAME:CET
DTSTART:20231029T010000
END:STANDARD
BEGIN:DAYLIGHT
TZOFFSETFROM:+0100
TZOFFSETTO:+0200
TZNAME:CEST
DTSTART:20240331T010000
END:DAYLIGHT
BEGIN:STANDARD
TZOFFSETFROM:+0200
TZOFFSETTO:+0100
TZNAME:CET
DTSTART:20241027T010000
END:STANDARD
END:VTIMEZONE
BEGIN:VEVENT
DTSTART;TZID=Europe/Rome:20230517T110000
DTEND;TZID=Europe/Rome:20230517T113000
DTSTAMP:20260421T055041
CREATED:20230419T094953Z
LAST-MODIFIED:20230419T125707Z
UID:10000366-1684321200-1684323000@neinformatica.it
SUMMARY:Industry 4.0: Pianificazione e Schedulazione della produzione
DESCRIPTION:Scopri la pianificazione e schedulazione della produzione.Efficienta materiali e risorse con la pianificazione e schedulazione di TS Industry 4.0.Lo scopo sarà farti comprendere come gestire al meglio la pianificazione e schedulazione della produzione della tua azienda controllando lead-time di approvvigionamento\, il costo delle materie prime\, i cicli di lavoro\, la capacità produttiva e le altre variabili interne al ciclo produttivo. \n\n\n\n\n\n\n\nProgramma:  \n\n\n\n\nPresentazione della soluzione di pianificazione e schedulazione\n\n\n\nFocus live sul prodotto\n\n\n\nDomande e risposte\n\n\n\n\nIscriviti compilando la form sottostante \n\n\n\nRiceverai una e-mail con il link e le istruzioni per il collegamento entro il giorno stesso del webinar (15 minuti prima del suo inizio) \n\n\n\nPer eventuali problemi tecnici o per ricevere maggiori informazioni non esitare a contattarci all’indirizzo email marketing@neinformatica.it
URL:https://neinformatica.it/webinar/industry-4-0-pianificazione-e-schedulazione-della-produzione-2/
CATEGORIES:Produzione
ATTACH;FMTTYPE=image/png:https://neinformatica.it/wp-content/uploads/2023/01/INDUSTRIA4.0.png
END:VEVENT
END:VCALENDAR