BEGIN:VCALENDAR
VERSION:2.0
PRODID:-//NordEst Informatica - ECPv6.15.20//NONSGML v1.0//EN
CALSCALE:GREGORIAN
METHOD:PUBLISH
X-ORIGINAL-URL:https://neinformatica.it
X-WR-CALDESC:Eventi per NordEst Informatica
REFRESH-INTERVAL;VALUE=DURATION:PT1H
X-Robots-Tag:noindex
X-PUBLISHED-TTL:PT1H
BEGIN:VTIMEZONE
TZID:Europe/Rome
BEGIN:DAYLIGHT
TZOFFSETFROM:+0100
TZOFFSETTO:+0200
TZNAME:CEST
DTSTART:20230326T010000
END:DAYLIGHT
BEGIN:STANDARD
TZOFFSETFROM:+0200
TZOFFSETTO:+0100
TZNAME:CET
DTSTART:20231029T010000
END:STANDARD
BEGIN:DAYLIGHT
TZOFFSETFROM:+0100
TZOFFSETTO:+0200
TZNAME:CEST
DTSTART:20240331T010000
END:DAYLIGHT
BEGIN:STANDARD
TZOFFSETFROM:+0200
TZOFFSETTO:+0100
TZNAME:CET
DTSTART:20241027T010000
END:STANDARD
BEGIN:DAYLIGHT
TZOFFSETFROM:+0100
TZOFFSETTO:+0200
TZNAME:CEST
DTSTART:20250330T010000
END:DAYLIGHT
BEGIN:STANDARD
TZOFFSETFROM:+0200
TZOFFSETTO:+0100
TZNAME:CET
DTSTART:20251026T010000
END:STANDARD
END:VTIMEZONE
BEGIN:VEVENT
DTSTART;TZID=Europe/Rome:20240424T100000
DTEND;TZID=Europe/Rome:20240424T103000
DTSTAMP:20260420T042207
CREATED:20240319T163809Z
LAST-MODIFIED:20240319T163819Z
UID:10000441-1713952800-1713954600@neinformatica.it
SUMMARY:Ottimizza il benessere dei Dipendenti e scopri le novità 2024 in tema di welfare
DESCRIPTION:Il webinar si rivolge a HR manager\, responsabili del personale e tutti coloro interessati ad ottimizzare la gestione del welfare aziendale attraverso soluzioni software HR e a comprendere le implicazioni delle nuove regole dei fringe benefit. \n\n\n\nDurante il webinar scopriremo come il software può ottimizzare la gestione dei benefici per i dipendenti e promuovere un ambiente di lavoro sano e positivo. \n\n\n\nFaremo una panoramica approfondita sul ruolo del software HR nella gestione del welfare aziendale approfondendo la comprensione delle nuove regole 2024 e delle loro implicazioni per le aziende. \n\n\n\n\n\n\n\n\n\nSe sei curioso di scoprire di più partecipa al webinar GRATUITO lasciando i tuoi dati qui sotto. \n\n\n\nRiceverai un’ e-mail con il link e le istruzioni per il collegamento  15 MINUTI prima dell’inizio del webinar  \n\n\n\nPer eventuali problemi tecnici o per ricevere maggiori informazioni non esitare a contattarci all’indirizzo email marketing@neinformatica.it
URL:https://neinformatica.it/webinar/ottimizza-il-benessere-dei-dipendenti-e-scopri-le-novita-2024-in-tema-di-welfare/
CATEGORIES:HR
ATTACH;FMTTYPE=image/jpeg:https://neinformatica.it/wp-content/uploads/2022/12/hr-all-in-one.jpg
END:VEVENT
END:VCALENDAR