BEGIN:VCALENDAR
VERSION:2.0
PRODID:-//NordEst Informatica - ECPv6.15.20//NONSGML v1.0//EN
CALSCALE:GREGORIAN
METHOD:PUBLISH
X-WR-CALNAME:NordEst Informatica
X-ORIGINAL-URL:https://neinformatica.it
X-WR-CALDESC:Eventi per NordEst Informatica
REFRESH-INTERVAL;VALUE=DURATION:PT1H
X-Robots-Tag:noindex
X-PUBLISHED-TTL:PT1H
BEGIN:VTIMEZONE
TZID:Europe/Rome
BEGIN:DAYLIGHT
TZOFFSETFROM:+0100
TZOFFSETTO:+0200
TZNAME:CEST
DTSTART:20220327T010000
END:DAYLIGHT
BEGIN:STANDARD
TZOFFSETFROM:+0200
TZOFFSETTO:+0100
TZNAME:CET
DTSTART:20221030T010000
END:STANDARD
BEGIN:DAYLIGHT
TZOFFSETFROM:+0100
TZOFFSETTO:+0200
TZNAME:CEST
DTSTART:20230326T010000
END:DAYLIGHT
BEGIN:STANDARD
TZOFFSETFROM:+0200
TZOFFSETTO:+0100
TZNAME:CET
DTSTART:20231029T010000
END:STANDARD
BEGIN:DAYLIGHT
TZOFFSETFROM:+0100
TZOFFSETTO:+0200
TZNAME:CEST
DTSTART:20240331T010000
END:DAYLIGHT
BEGIN:STANDARD
TZOFFSETFROM:+0200
TZOFFSETTO:+0100
TZNAME:CET
DTSTART:20241027T010000
END:STANDARD
END:VTIMEZONE
BEGIN:VEVENT
DTSTART;TZID=Europe/Rome:20231213T103000
DTEND;TZID=Europe/Rome:20231213T110000
DTSTAMP:20260420T053657
CREATED:20231121T085015Z
LAST-MODIFIED:20231121T085021Z
UID:10000412-1702463400-1702465200@neinformatica.it
SUMMARY:Centralizza e semplifica la gestione del business travel e delle spese di viaggio
DESCRIPTION:Il webinar si rivolge ad aziende di tutte le dimensioni che vogliano gestire in modo centralizzato l’area business travel e ottenere un risparmio su tre diversi fronti:  \n\n\n\n\nRisparmio sulle tariffe: grazie alla rapida comparazione dei prezzi disponibili sul mercato \n\n\n\nRisparmio sulle fee d’agenzia: grazie a vantaggiosi costi per prenotazione \n\n\n\nRisparmio sulle ore-lavoro: grazie all’automatizzazione dei processi di gestione\n\n\n\n\n\n\n\n\n\n\nSarà l’occasione per conoscere tutti i vantaggi della soluzione BizAway e TeamSystem HR All-in-One\, che insieme garantiscono il monitoraggio centralizzato dei dati di viaggio e dashboard e KPI alimentati da tutte le funzionalità TeamSystem HR. \n\n\n\nL’obiettivo è accompagnare le aziende nella loro trasformazione digitale e supportarle nella gestione unica e centralizzata dei viaggi di lavoro.  \n\n\n\nSe sei curioso di scoprire di più partecipa al webinar GRATUITO lasciando i tuoi dati qui sotto. \n\n\n\nRiceverai un’ e-mail con il link e le istruzioni per il collegamento  15 MINUTI prima dell’inizio del webinar  \n\n\n\nPer eventuali problemi tecnici o per ricevere maggiori informazioni non esitare a contattarci all’indirizzo email marketing@neinformatica.it
URL:https://neinformatica.it/webinar/centralizza-e-semplifica-la-gestione-del-business-travel-e-delle-spese-di-viaggio/
CATEGORIES:HR
ATTACH;FMTTYPE=image/jpeg:https://neinformatica.it/wp-content/uploads/2022/12/hr-all-in-one.jpg
END:VEVENT
END:VCALENDAR