BEGIN:VCALENDAR
VERSION:2.0
PRODID:-//NordEst Informatica - ECPv6.15.20//NONSGML v1.0//EN
CALSCALE:GREGORIAN
METHOD:PUBLISH
X-ORIGINAL-URL:https://neinformatica.it
X-WR-CALDESC:Eventi per NordEst Informatica
REFRESH-INTERVAL;VALUE=DURATION:PT1H
X-Robots-Tag:noindex
X-PUBLISHED-TTL:PT1H
BEGIN:VTIMEZONE
TZID:Europe/Rome
BEGIN:DAYLIGHT
TZOFFSETFROM:+0100
TZOFFSETTO:+0200
TZNAME:CEST
DTSTART:20220327T010000
END:DAYLIGHT
BEGIN:STANDARD
TZOFFSETFROM:+0200
TZOFFSETTO:+0100
TZNAME:CET
DTSTART:20221030T010000
END:STANDARD
BEGIN:DAYLIGHT
TZOFFSETFROM:+0100
TZOFFSETTO:+0200
TZNAME:CEST
DTSTART:20230326T010000
END:DAYLIGHT
BEGIN:STANDARD
TZOFFSETFROM:+0200
TZOFFSETTO:+0100
TZNAME:CET
DTSTART:20231029T010000
END:STANDARD
BEGIN:DAYLIGHT
TZOFFSETFROM:+0100
TZOFFSETTO:+0200
TZNAME:CEST
DTSTART:20240331T010000
END:DAYLIGHT
BEGIN:STANDARD
TZOFFSETFROM:+0200
TZOFFSETTO:+0100
TZNAME:CET
DTSTART:20241027T010000
END:STANDARD
BEGIN:DAYLIGHT
TZOFFSETFROM:+0100
TZOFFSETTO:+0200
TZNAME:CEST
DTSTART:20250330T010000
END:DAYLIGHT
BEGIN:STANDARD
TZOFFSETFROM:+0200
TZOFFSETTO:+0100
TZNAME:CET
DTSTART:20251026T010000
END:STANDARD
BEGIN:DAYLIGHT
TZOFFSETFROM:+0100
TZOFFSETTO:+0200
TZNAME:CEST
DTSTART:20260329T010000
END:DAYLIGHT
BEGIN:STANDARD
TZOFFSETFROM:+0200
TZOFFSETTO:+0100
TZNAME:CET
DTSTART:20261025T010000
END:STANDARD
BEGIN:DAYLIGHT
TZOFFSETFROM:+0100
TZOFFSETTO:+0200
TZNAME:CEST
DTSTART:20270328T010000
END:DAYLIGHT
BEGIN:STANDARD
TZOFFSETFROM:+0200
TZOFFSETTO:+0100
TZNAME:CET
DTSTART:20271031T010000
END:STANDARD
END:VTIMEZONE
BEGIN:VEVENT
DTSTART;TZID=Europe/Rome:20231206T103000
DTEND;TZID=Europe/Rome:20231206T110000
DTSTAMP:20260420T071550
CREATED:20231120T154935Z
LAST-MODIFIED:20231120T154941Z
UID:10000409-1701858600-1701860400@neinformatica.it
SUMMARY:Valorizza i dati amministrativi per la gestione e lo sviluppo del personale
DESCRIPTION:Il webinar si rivolge ad aziende di tutte le dimensioni che vogliono valorizzare le risorse a loro disposizione\, integrandole in un unico sistema di gestione del personale.  \n\n\n\n\n\n\n\n\n\nL’obiettivo del webinar è dimostrare quanto una gestione centralizzata e unica dei dati delle Risorse Umane possa rivoluzionare il sistema di gestione del personale e il ruolo della funzione HR.  \n\n\n\nSarà l’occasione per conoscere perimetro e vantaggi della soluzione TeamSystem HR All-in-One\, un’unica proposta applicativa dal vasto perimetro funzionale e dalla logica data driven. \n\n\n\nSe sei curioso di scoprire di più partecipa al webinar GRATUITO lasciando i tuoi dati qui sotto. \n\n\n\nRiceverai un’ e-mail con il link e le istruzioni per il collegamento  15 MINUTI prima dell’inizio del webinar  \n\n\n\nPer eventuali problemi tecnici o per ricevere maggiori informazioni non esitare a contattarci all’indirizzo email marketing@neinformatica.it
URL:https://neinformatica.it/webinar/valorizza-i-dati-amministrativi-per-la-gestione-e-lo-sviluppo-del-personale-3/
CATEGORIES:HR
ATTACH;FMTTYPE=image/png:https://neinformatica.it/wp-content/uploads/2023/02/WEBINAR-AZIENDE_TS-HR.png
END:VEVENT
BEGIN:VEVENT
DTSTART;TZID=Europe/Rome:20231213T103000
DTEND;TZID=Europe/Rome:20231213T110000
DTSTAMP:20260420T071550
CREATED:20231121T085015Z
LAST-MODIFIED:20231121T085021Z
UID:10000412-1702463400-1702465200@neinformatica.it
SUMMARY:Centralizza e semplifica la gestione del business travel e delle spese di viaggio
DESCRIPTION:Il webinar si rivolge ad aziende di tutte le dimensioni che vogliano gestire in modo centralizzato l’area business travel e ottenere un risparmio su tre diversi fronti:  \n\n\n\n\nRisparmio sulle tariffe: grazie alla rapida comparazione dei prezzi disponibili sul mercato \n\n\n\nRisparmio sulle fee d’agenzia: grazie a vantaggiosi costi per prenotazione \n\n\n\nRisparmio sulle ore-lavoro: grazie all’automatizzazione dei processi di gestione\n\n\n\n\n\n\n\n\n\n\nSarà l’occasione per conoscere tutti i vantaggi della soluzione BizAway e TeamSystem HR All-in-One\, che insieme garantiscono il monitoraggio centralizzato dei dati di viaggio e dashboard e KPI alimentati da tutte le funzionalità TeamSystem HR. \n\n\n\nL’obiettivo è accompagnare le aziende nella loro trasformazione digitale e supportarle nella gestione unica e centralizzata dei viaggi di lavoro.  \n\n\n\nSe sei curioso di scoprire di più partecipa al webinar GRATUITO lasciando i tuoi dati qui sotto. \n\n\n\nRiceverai un’ e-mail con il link e le istruzioni per il collegamento  15 MINUTI prima dell’inizio del webinar  \n\n\n\nPer eventuali problemi tecnici o per ricevere maggiori informazioni non esitare a contattarci all’indirizzo email marketing@neinformatica.it
URL:https://neinformatica.it/webinar/centralizza-e-semplifica-la-gestione-del-business-travel-e-delle-spese-di-viaggio/
CATEGORIES:HR
ATTACH;FMTTYPE=image/jpeg:https://neinformatica.it/wp-content/uploads/2022/12/hr-all-in-one.jpg
END:VEVENT
BEGIN:VEVENT
DTSTART;TZID=Europe/Rome:20240125T153000
DTEND;TZID=Europe/Rome:20240125T160000
DTSTAMP:20260420T071550
CREATED:20231221T144652Z
LAST-MODIFIED:20231221T144658Z
UID:10000417-1706196600-1706198400@neinformatica.it
SUMMARY:TeamSystem HR– Onboarding e processi HR
DESCRIPTION:Il webinar si rivolge a tutte le aziende che vogliono vedere come un software di gestione HR può migliorare la gestione di tutti i processi HR. \n\n\n\nDurante il Webinar esploreremo come TeamSystem HR può supportare la funzione HR in tutti i processi\, dall’onboarding all’organizzazione di una trasferta e molto altro. \n\n\n\n\n\n\n\n\n\nSe sei curioso di scoprire di più partecipa al webinar GRATUITO lasciando i tuoi dati qui sotto. \n\n\n\nRiceverai un’ e-mail con il link e le istruzioni per il collegamento  15 MINUTI prima dell’inizio del webinar  \n\n\n\nPer eventuali problemi tecnici o per ricevere maggiori informazioni non esitare a contattarci all’indirizzo email marketing@neinformatica.it
URL:https://neinformatica.it/webinar/teamsystem-hr-onboarding-e-processi-hr/
CATEGORIES:HR
ATTACH;FMTTYPE=image/jpeg:https://neinformatica.it/wp-content/uploads/2022/12/hr-all-in-one.jpg
END:VEVENT
BEGIN:VEVENT
DTSTART;TZID=Europe/Rome:20240229T103000
DTEND;TZID=Europe/Rome:20240229T110000
DTSTAMP:20260420T071550
CREATED:20240212T105334Z
LAST-MODIFIED:20240212T105343Z
UID:10000428-1709202600-1709204400@neinformatica.it
SUMMARY:TeamSystem HR–  Scopri come efficientare i processi di gestione presenze e note spese
DESCRIPTION:Il webinar si rivolge a professionisti delle risorse umane\, responsabili amministrativi\, dirigenti aziendali e a tutti coloro che sono interessati a implementare soluzioni digitali per semplificare e migliorare la gestione delle presenze e delle note spese all’interno della propria organizzazione. \n\n\n\nDurante il Webinar esploreremo  le nostre soluzioni HR in ambito Presenze e Note Spese. Vedremo inoltre i nostri due servizi di firma e archiviazione digitale. \n\n\n\n\n\n\n\n\n\nSe sei curioso di scoprire di più partecipa al webinar GRATUITO lasciando i tuoi dati qui sotto. \n\n\n\nRiceverai un’ e-mail con il link e le istruzioni per il collegamento  15 MINUTI prima dell’inizio del webinar  \n\n\n\nPer eventuali problemi tecnici o per ricevere maggiori informazioni non esitare a contattarci all’indirizzo email marketing@neinformatica.it
URL:https://neinformatica.it/webinar/teamsystem-hr-scopri-come-efficientare-i-processi-di-gestione-presenze-e-note-spese/
CATEGORIES:HR
ATTACH;FMTTYPE=image/jpeg:https://neinformatica.it/wp-content/uploads/2022/12/hr-all-in-one.jpg
END:VEVENT
BEGIN:VEVENT
DTSTART;TZID=Europe/Rome:20240424T100000
DTEND;TZID=Europe/Rome:20240424T103000
DTSTAMP:20260420T071550
CREATED:20240319T163809Z
LAST-MODIFIED:20240319T163819Z
UID:10000441-1713952800-1713954600@neinformatica.it
SUMMARY:Ottimizza il benessere dei Dipendenti e scopri le novità 2024 in tema di welfare
DESCRIPTION:Il webinar si rivolge a HR manager\, responsabili del personale e tutti coloro interessati ad ottimizzare la gestione del welfare aziendale attraverso soluzioni software HR e a comprendere le implicazioni delle nuove regole dei fringe benefit. \n\n\n\nDurante il webinar scopriremo come il software può ottimizzare la gestione dei benefici per i dipendenti e promuovere un ambiente di lavoro sano e positivo. \n\n\n\nFaremo una panoramica approfondita sul ruolo del software HR nella gestione del welfare aziendale approfondendo la comprensione delle nuove regole 2024 e delle loro implicazioni per le aziende. \n\n\n\n\n\n\n\n\n\nSe sei curioso di scoprire di più partecipa al webinar GRATUITO lasciando i tuoi dati qui sotto. \n\n\n\nRiceverai un’ e-mail con il link e le istruzioni per il collegamento  15 MINUTI prima dell’inizio del webinar  \n\n\n\nPer eventuali problemi tecnici o per ricevere maggiori informazioni non esitare a contattarci all’indirizzo email marketing@neinformatica.it
URL:https://neinformatica.it/webinar/ottimizza-il-benessere-dei-dipendenti-e-scopri-le-novita-2024-in-tema-di-welfare/
CATEGORIES:HR
ATTACH;FMTTYPE=image/jpeg:https://neinformatica.it/wp-content/uploads/2022/12/hr-all-in-one.jpg
END:VEVENT
BEGIN:VEVENT
DTSTART;TZID=Europe/Rome:20240528T100000
DTEND;TZID=Europe/Rome:20240528T103000
DTSTAMP:20260420T071550
CREATED:20240412T081840Z
LAST-MODIFIED:20240412T081849Z
UID:10000446-1716890400-1716892200@neinformatica.it
SUMMARY:TeamSystem HR– Scopri come un LMS avanzato rivoluziona la formazione
DESCRIPTION:Il webinar si rivolge a  responsabili della formazione\, HR e tutti coloro interessati a implementare un sistema di gestione della formazione completo. L’evento è pensato per tutti coloro che vogliono massimizzare l’efficacia della formazione attraverso l’implementazione di un LMS avanzato\, questo evento è pensato per te. \n\n\n\nDurante il Webinar esploreremo TeamSystem HR – Formazione e-learning\, la soluzione per la gestione end-to-end della formazione aziendale. Parleremo inoltre della nostra partnership con SKILLA. \n\n\n\n\n\n\n\n\n\nSe sei curioso di scoprire di più partecipa al webinar GRATUITO lasciando i tuoi dati qui sotto. \n\n\n\nRiceverai un’ e-mail con il link e le istruzioni per il collegamento  15 MINUTI prima dell’inizio del webinar  \n\n\n\nPer eventuali problemi tecnici o per ricevere maggiori informazioni non esitare a contattarci all’indirizzo email marketing@neinformatica.it
URL:https://neinformatica.it/webinar/teamsystem-hr-scopri-come-un-lms-avanzato-rivoluziona-la-formazione/
CATEGORIES:HR
ATTACH;FMTTYPE=image/jpeg:https://neinformatica.it/wp-content/uploads/2022/12/hr-all-in-one.jpg
END:VEVENT
BEGIN:VEVENT
DTSTART;TZID=Europe/Rome:20240918T100000
DTEND;TZID=Europe/Rome:20240918T103000
DTSTAMP:20260420T071550
CREATED:20240722T094825Z
LAST-MODIFIED:20240722T094835Z
UID:10000471-1726653600-1726655400@neinformatica.it
SUMMARY:TeamSystem HR– Onboarding senza Stress: ottimizza i processi HR con un software
DESCRIPTION:Il webinar si rivolge a tutte le aziende che vogliono vedere come un software di gestione HR può migliorare la gestione di tutti i processi HR. \n\n\n\nL’obiettivo del webinar è scoprire  come un software possa trasformare la gestione delle risorse umane\, rendendo l’onboarding e tutti i processi HR più fluidi\, efficienti e orientati al successo aziendale. \n\n\n\n\n\n\n\n\n\nSe sei curioso di scoprire di più partecipa al webinar GRATUITO lasciando i tuoi dati qui sotto. \n\n\n\nRiceverai un’ e-mail con il link e le istruzioni per il collegamento  15 MINUTI prima dell’inizio del webinar  \n\n\n\nPer eventuali problemi tecnici o per ricevere maggiori informazioni non esitare a contattarci all’indirizzo email marketing@neinformatica.it
URL:https://neinformatica.it/webinar/teamsystem-hr-onboarding-senza-stress-ottimizza-i-processi-hr-con-un-software/
CATEGORIES:HR
ATTACH;FMTTYPE=image/jpeg:https://neinformatica.it/wp-content/uploads/2022/12/hr-all-in-one.jpg
END:VEVENT
BEGIN:VEVENT
DTSTART;TZID=Europe/Rome:20251023T100000
DTEND;TZID=Europe/Rome:20251023T103000
DTSTAMP:20260420T071550
CREATED:20250924T091838Z
LAST-MODIFIED:20250924T091840Z
UID:10000488-1761213600-1761215400@neinformatica.it
SUMMARY:Scopri come ottimizzare il benessere dei Dipendenti
DESCRIPTION:Partecipa al webinar\, esplora il mondo del welfare aziendale  e scopri come potenziare il benessere dei tuoi dipendenti grazie all’utilizzo di soluzioni software innovative.  \n\n\n\n\n\n\n\nIl webinar si rivolge a HR manager\, responsabili del personale e tutti coloro interessati ad ottimizzare la gestione del welfare aziendale attraverso soluzioni software HR. \n\n\n\nDurante il webinar scopriremo come un software integrato possa aiutarti a definire un piano di welfare personalizzato\, ottimizzando la gestione dei benefici per i dipendenti e promuovendo un ambiente di lavoro sano e positivo. \n\n\n\nSe sei curioso di scoprire di più partecipa al webinar GRATUITO lasciando i tuoi dati qui sotto. \n\n\n\nRiceverai un’ e-mail con il link e le istruzioni per il collegamento  15 MINUTI prima dell’inizio del webinar  \n\n\n\nPer eventuali problemi tecnici o per ricevere maggiori informazioni non esitare a contattarci all’indirizzo email marketing@neinformatica.it
URL:https://neinformatica.it/webinar/scopri-come-ottimizzare-il-benessere-dei-dipendenti/
CATEGORIES:HR
ATTACH;FMTTYPE=image/jpeg:https://neinformatica.it/wp-content/uploads/2022/12/hr-all-in-one.jpg
END:VEVENT
BEGIN:VEVENT
DTSTART;TZID=Europe/Rome:20251126T100000
DTEND;TZID=Europe/Rome:20251126T103000
DTSTAMP:20260420T071550
CREATED:20251028T082611Z
LAST-MODIFIED:20251028T082612Z
UID:10000493-1764151200-1764153000@neinformatica.it
SUMMARY:TeamSystem HR– scopri i nuovi agenti HR basati sull'Intelligenza Artificiale
DESCRIPTION:Partecipa al webinar per conoscere i nuovi agenti virtuali specializzati nella gestione HR. Scoprirai concretamente come possono supportare le attività di back office e migliorare l’esperienza dei dipendenti. \n\n\n\nIl webinar si rivolge ai responsabili delle risorse umane e a tutti coloro che sono interessati a scoprire come gli agenti virtuali possano semplificare la gestione delle informazioni contrattuali e migliorare la people experience. \n\n\n\n\n\n\n\n\n\nSe sei curioso di scoprire di più partecipa al webinar GRATUITO lasciando i tuoi dati qui sotto. \n\n\n\nRiceverai un’ e-mail con il link e le istruzioni per il collegamento  15 MINUTI prima dell’inizio del webinar  \n\n\n\nPer eventuali problemi tecnici o per ricevere maggiori informazioni non esitare a contattarci all’indirizzo email marketing@neinformatica.it
URL:https://neinformatica.it/webinar/teamsystem-hr-scopri-i-nuovi-agenti-hr-basati-sullintelligenza-artificiale/
CATEGORIES:HR
ATTACH;FMTTYPE=image/jpeg:https://neinformatica.it/wp-content/uploads/2022/12/hr-all-in-one.jpg
END:VEVENT
BEGIN:VEVENT
DTSTART;TZID=Europe/Rome:20260212T100000
DTEND;TZID=Europe/Rome:20260212T103000
DTSTAMP:20260420T071550
CREATED:20260129T135952Z
LAST-MODIFIED:20260129T135953Z
UID:10000502-1770890400-1770892200@neinformatica.it
SUMMARY:HR– i Trend emergenti per il 2026!
DESCRIPTION:Partecipa al webinar e scopri i nuovi trend 2026 che stanno ridisegnando il mondo delle risorse umane dalle innovazioni tecnologiche\, all’Intelligenza Artificiale\, passando per la crescente digitalizzazione dei processi HR. \n\n\n\nSarà un’occasione preziosa per anticipare i cambiamenti del mercato del lavoro\, comprendere le nuove esigenze delle persone e adattare le pratiche HR a un contesto sempre più dinamico e competitivo. \n\n\n\n Partecipa così da prepararti alle sfide e alle opportunità che caratterizzeranno i prossimi anni! \n\n\n\n\n\n\n\n\n\nSe sei curioso di scoprire di più partecipa al webinar GRATUITO lasciando i tuoi dati qui sotto. \n\n\n\nRiceverai un’ e-mail con il link e le istruzioni per il collegamento  15 MINUTI prima dell’inizio del webinar  \n\n\n\nPer eventuali problemi tecnici o per ricevere maggiori informazioni non esitare a contattarci all’indirizzo email marketing@neinformatica.it
URL:https://neinformatica.it/webinar/hr-i-trend-emergenti-per-il-2026/
CATEGORIES:HR
ATTACH;FMTTYPE=image/jpeg:https://neinformatica.it/wp-content/uploads/2022/12/hr-all-in-one.jpg
END:VEVENT
END:VCALENDAR