BEGIN:VCALENDAR
VERSION:2.0
PRODID:-//NordEst Informatica - ECPv6.15.20//NONSGML v1.0//EN
CALSCALE:GREGORIAN
METHOD:PUBLISH
X-ORIGINAL-URL:https://neinformatica.it
X-WR-CALDESC:Eventi per NordEst Informatica
REFRESH-INTERVAL;VALUE=DURATION:PT1H
X-Robots-Tag:noindex
X-PUBLISHED-TTL:PT1H
BEGIN:VTIMEZONE
TZID:Europe/Rome
BEGIN:DAYLIGHT
TZOFFSETFROM:+0100
TZOFFSETTO:+0200
TZNAME:CEST
DTSTART:20220327T010000
END:DAYLIGHT
BEGIN:STANDARD
TZOFFSETFROM:+0200
TZOFFSETTO:+0100
TZNAME:CET
DTSTART:20221030T010000
END:STANDARD
BEGIN:DAYLIGHT
TZOFFSETFROM:+0100
TZOFFSETTO:+0200
TZNAME:CEST
DTSTART:20230326T010000
END:DAYLIGHT
BEGIN:STANDARD
TZOFFSETFROM:+0200
TZOFFSETTO:+0100
TZNAME:CET
DTSTART:20231029T010000
END:STANDARD
BEGIN:DAYLIGHT
TZOFFSETFROM:+0100
TZOFFSETTO:+0200
TZNAME:CEST
DTSTART:20240331T010000
END:DAYLIGHT
BEGIN:STANDARD
TZOFFSETFROM:+0200
TZOFFSETTO:+0100
TZNAME:CET
DTSTART:20241027T010000
END:STANDARD
END:VTIMEZONE
BEGIN:VEVENT
DTSTART;TZID=Europe/Rome:20231005T103000
DTEND;TZID=Europe/Rome:20231005T110000
DTSTAMP:20260420T053640
CREATED:20230922T100917Z
LAST-MODIFIED:20230922T100925Z
UID:10000391-1696501800-1696503600@neinformatica.it
SUMMARY:HR: Benessere e valorizzazione dei dipendenti
DESCRIPTION:Il webinar si rivolge a tutte le aziende che vogliono supportare le risorse umane e il loro benessere \n\n\n\nEsploreremo alcuni dei più importanti trend HR nazionali e identificheremo i migliori approcci organizzativi per supportare il benessere dei dipendenti. \n\n\n\n\n\n\n\n\n\nSe sei curioso di scoprire di più partecipa al webinar GRATUITO lasciando i tuoi dati qui sotto. \n\n\n\nRiceverai un’ e-mail con il link e le istruzioni per il collegamento  15 MINUTI prima dell’inizio del webinar  \n\n\n\nPer eventuali problemi tecnici o per ricevere maggiori informazioni non esitare a contattarci all’indirizzo email marketing@neinformatica.it
URL:https://neinformatica.it/webinar/hr-benessere-e-valorizzazione-dei-dipendenti/
CATEGORIES:HR
ATTACH;FMTTYPE=image/jpeg:https://neinformatica.it/wp-content/uploads/2022/12/hr-all-in-one.jpg
END:VEVENT
BEGIN:VEVENT
DTSTART;TZID=Europe/Rome:20231025T103000
DTEND;TZID=Europe/Rome:20231025T110000
DTSTAMP:20260420T053640
CREATED:20230922T125455Z
LAST-MODIFIED:20230922T125508Z
UID:10000393-1698229800-1698231600@neinformatica.it
SUMMARY:Valorizza i dati amministrativi per la gestione e lo sviluppo del personale
DESCRIPTION:Il webinar si rivolge ad aziende di tutte le dimensioni che vogliono valorizzare le risorse a loro disposizione\, integrandole in un unico sistema di gestione del personale.  \n\n\n\n\n\n\n\n\n\nL’obiettivo del webinar è dimostrare quanto una gestione centralizzata e unica dei dati delle Risorse Umane possa rivoluzionare il sistema di gestione del personale e il ruolo della funzione HR.  \n\n\n\nSarà l’occasione per conoscere perimetro e vantaggi della soluzione TeamSystem HR All-in-One\, un’unica proposta applicativa dal vasto perimetro funzionale e dalla logica data driven. \n\n\n\nSe sei curioso di scoprire di più partecipa al webinar GRATUITO lasciando i tuoi dati qui sotto. \n\n\n\nRiceverai un’ e-mail con il link e le istruzioni per il collegamento  15 MINUTI prima dell’inizio del webinar  \n\n\n\nPer eventuali problemi tecnici o per ricevere maggiori informazioni non esitare a contattarci all’indirizzo email marketing@neinformatica.it
URL:https://neinformatica.it/webinar/valorizza-i-dati-amministrativi-per-la-gestione-e-lo-sviluppo-del-personale-2/
CATEGORIES:HR
ATTACH;FMTTYPE=image/png:https://neinformatica.it/wp-content/uploads/2023/02/WEBINAR-AZIENDE_TS-HR.png
END:VEVENT
END:VCALENDAR