BEGIN:VCALENDAR
VERSION:2.0
PRODID:-//NordEst Informatica - ECPv6.15.20//NONSGML v1.0//EN
CALSCALE:GREGORIAN
METHOD:PUBLISH
X-WR-CALNAME:NordEst Informatica
X-ORIGINAL-URL:https://neinformatica.it
X-WR-CALDESC:Eventi per NordEst Informatica
REFRESH-INTERVAL;VALUE=DURATION:PT1H
X-Robots-Tag:noindex
X-PUBLISHED-TTL:PT1H
BEGIN:VTIMEZONE
TZID:Europe/Rome
BEGIN:DAYLIGHT
TZOFFSETFROM:+0100
TZOFFSETTO:+0200
TZNAME:CEST
DTSTART:20230326T010000
END:DAYLIGHT
BEGIN:STANDARD
TZOFFSETFROM:+0200
TZOFFSETTO:+0100
TZNAME:CET
DTSTART:20231029T010000
END:STANDARD
BEGIN:DAYLIGHT
TZOFFSETFROM:+0100
TZOFFSETTO:+0200
TZNAME:CEST
DTSTART:20240331T010000
END:DAYLIGHT
BEGIN:STANDARD
TZOFFSETFROM:+0200
TZOFFSETTO:+0100
TZNAME:CET
DTSTART:20241027T010000
END:STANDARD
BEGIN:DAYLIGHT
TZOFFSETFROM:+0100
TZOFFSETTO:+0200
TZNAME:CEST
DTSTART:20250330T010000
END:DAYLIGHT
BEGIN:STANDARD
TZOFFSETFROM:+0200
TZOFFSETTO:+0100
TZNAME:CET
DTSTART:20251026T010000
END:STANDARD
END:VTIMEZONE
BEGIN:VEVENT
DTSTART;TZID=Europe/Rome:20240417T163000
DTEND;TZID=Europe/Rome:20240417T171500
DTSTAMP:20260420T085249
CREATED:20240319T164236Z
LAST-MODIFIED:20240319T164244Z
UID:10000442-1713371400-1713374100@neinformatica.it
SUMMARY:Automatizzazione della logistica di magazzino con WMS TeamSystem
DESCRIPTION:Cerchi un software per la gestione ottimale di logistica e magazzino? WMS TeamSystem può fare al caso tuo! \n\n\n\n\n\n\n\nPartecipa al webinar e scopri come gestire\, semplificare e velocizzare i processi di gestione del magazzino eliminando l’incidenza dell’errore umano nelle fasi di ricevimento\, spedizione\, inventario e conto lavoro passivo! \n\n\n\nSe sei curioso di scoprire di più partecipa al webinar GRATUITO lasciando i tuoi dati qui sotto. \n\n\n\nRiceverai un’ e-mail con il link e le istruzioni per il collegamento  15 MINUTI prima dell’inizio del webinar  \n\n\n\nPer eventuali problemi tecnici o per ricevere maggiori informazioni non esitare a contattarci all’indirizzo email marketing@neinformatica.it
URL:https://neinformatica.it/webinar/automatizzazione-della-logistica-di-magazzino-con-wms-teamsystem/
CATEGORIES:Gestionali
ATTACH;FMTTYPE=image/jpeg:https://neinformatica.it/wp-content/uploads/2023/03/DEM_TS-ENTERPRISE-WMS-.jpg
END:VEVENT
END:VCALENDAR