BEGIN:VCALENDAR
VERSION:2.0
PRODID:-//NordEst Informatica - ECPv6.15.20//NONSGML v1.0//EN
CALSCALE:GREGORIAN
METHOD:PUBLISH
X-WR-CALNAME:NordEst Informatica
X-ORIGINAL-URL:https://neinformatica.it
X-WR-CALDESC:Eventi per NordEst Informatica
REFRESH-INTERVAL;VALUE=DURATION:PT1H
X-Robots-Tag:noindex
X-PUBLISHED-TTL:PT1H
BEGIN:VTIMEZONE
TZID:Europe/Rome
BEGIN:DAYLIGHT
TZOFFSETFROM:+0100
TZOFFSETTO:+0200
TZNAME:CEST
DTSTART:20230326T010000
END:DAYLIGHT
BEGIN:STANDARD
TZOFFSETFROM:+0200
TZOFFSETTO:+0100
TZNAME:CET
DTSTART:20231029T010000
END:STANDARD
BEGIN:DAYLIGHT
TZOFFSETFROM:+0100
TZOFFSETTO:+0200
TZNAME:CEST
DTSTART:20240331T010000
END:DAYLIGHT
BEGIN:STANDARD
TZOFFSETFROM:+0200
TZOFFSETTO:+0100
TZNAME:CET
DTSTART:20241027T010000
END:STANDARD
BEGIN:DAYLIGHT
TZOFFSETFROM:+0100
TZOFFSETTO:+0200
TZNAME:CEST
DTSTART:20250330T010000
END:DAYLIGHT
BEGIN:STANDARD
TZOFFSETFROM:+0200
TZOFFSETTO:+0100
TZNAME:CET
DTSTART:20251026T010000
END:STANDARD
END:VTIMEZONE
BEGIN:VEVENT
DTSTART;TZID=Europe/Rome:20240327T113000
DTEND;TZID=Europe/Rome:20240327T121500
DTSTAMP:20260420T005016
CREATED:20240227T082921Z
LAST-MODIFIED:20240227T083058Z
UID:10000435-1711539000-1711541700@neinformatica.it
SUMMARY:Industry 4.0: Il Factory Control
DESCRIPTION:Il webinar si rivolge a tutti gli stakeholders in produzione: Responsabile di produzione\, Operatori \n\n\n\nL’obiettivo del webinar è comprendere come l’introduzione di Factory Control  all’interno del proprio impianto produttivo possa portare un netto miglioramento del controllo delle attività in produzione\, della correttezza delle dichiarazioni raccolte in modo totalmente automatico grazie al collegamento tramite protocolli macchina! \n\n\n\n\n\n\n\nProgramma:  \n\n\n\n\nPresentazione della soluzione \n\n\n\nFocus live sul prodotto\n\n\n\nDomande e risposte\n\n\n\n\n\n\n\n\nIscriviti compilando la form sottostante. \n\n\n\nRiceverai una e-mail con il link e le istruzioni per il collegamento entro il giorno stesso del webinar (15 minuti prima del suo inizio). \n\n\n\nPer eventuali problemi tecnici o per ricevere maggiori informazioni non esitare a contattarci all’indirizzo email marketing@neinformatica.it
URL:https://neinformatica.it/webinar/industry-4-0-il-factory-control/
CATEGORIES:Gestionali
ATTACH;FMTTYPE=image/png:https://neinformatica.it/wp-content/uploads/2023/01/INDUSTRIA4.0.png
END:VEVENT
END:VCALENDAR