BEGIN:VCALENDAR
VERSION:2.0
PRODID:-//NordEst Informatica - ECPv6.15.20//NONSGML v1.0//EN
CALSCALE:GREGORIAN
METHOD:PUBLISH
X-ORIGINAL-URL:https://neinformatica.it
X-WR-CALDESC:Eventi per NordEst Informatica
REFRESH-INTERVAL;VALUE=DURATION:PT1H
X-Robots-Tag:noindex
X-PUBLISHED-TTL:PT1H
BEGIN:VTIMEZONE
TZID:Europe/Rome
BEGIN:DAYLIGHT
TZOFFSETFROM:+0100
TZOFFSETTO:+0200
TZNAME:CEST
DTSTART:20220327T010000
END:DAYLIGHT
BEGIN:STANDARD
TZOFFSETFROM:+0200
TZOFFSETTO:+0100
TZNAME:CET
DTSTART:20221030T010000
END:STANDARD
BEGIN:DAYLIGHT
TZOFFSETFROM:+0100
TZOFFSETTO:+0200
TZNAME:CEST
DTSTART:20230326T010000
END:DAYLIGHT
BEGIN:STANDARD
TZOFFSETFROM:+0200
TZOFFSETTO:+0100
TZNAME:CET
DTSTART:20231029T010000
END:STANDARD
BEGIN:DAYLIGHT
TZOFFSETFROM:+0100
TZOFFSETTO:+0200
TZNAME:CEST
DTSTART:20240331T010000
END:DAYLIGHT
BEGIN:STANDARD
TZOFFSETFROM:+0200
TZOFFSETTO:+0100
TZNAME:CET
DTSTART:20241027T010000
END:STANDARD
END:VTIMEZONE
BEGIN:VEVENT
DTSTART;TZID=Europe/Rome:20231108T103000
DTEND;TZID=Europe/Rome:20231108T110000
DTSTAMP:20260420T120137
CREATED:20231020T075724Z
LAST-MODIFIED:20231020T080425Z
UID:10000400-1699439400-1699441200@neinformatica.it
SUMMARY:Migliora l'efficienza della tua linea produttiva con le soluzioni di Teamsystem Industry 4.0
DESCRIPTION:Il webinar si rivolge ai responsabili di produzione che vogliono digitalizzare e interconnettere i processi produttivi.  \n\n\n\nL’obiettivo del webinar sarà quello di farti comprendere come gestire il processo produttivo e i programmi di lavoro delle macchine grazie alla soluzione di Teamsystem Industry 4.0 \n\n\n\n\n\n\n\nProgramma:  \n\n\n\n\nOverview sul contesto di mercato di riferimento \n\n\n\nPianificazione e programmazione della produzione\n\n\n\nFocus sulla soluzione MES e Shop Floor Analytics\n\n\n\n\n \n\n\n\nIscriviti compilando la form sottostante. \n\n\n\nRiceverai una e-mail con il link e le istruzioni per il collegamento entro il giorno stesso del webinar (15 minuti prima del suo inizio). \n\n\n\nPer eventuali problemi tecnici o per ricevere maggiori informazioni non esitare a contattarci all’indirizzo email marketing@neinformatica.it
URL:https://neinformatica.it/webinar/migliora-lefficienza-della-tua-linea-produttiva-con-le-soluzioni-di-teamsystem-industry-4-0/
CATEGORIES:Gestionali
ATTACH;FMTTYPE=image/png:https://neinformatica.it/wp-content/uploads/2023/01/TSE_webinar.png
END:VEVENT
END:VCALENDAR