BEGIN:VCALENDAR
VERSION:2.0
PRODID:-//NordEst Informatica - ECPv6.15.20//NONSGML v1.0//EN
CALSCALE:GREGORIAN
METHOD:PUBLISH
X-WR-CALNAME:NordEst Informatica
X-ORIGINAL-URL:https://neinformatica.it
X-WR-CALDESC:Eventi per NordEst Informatica
REFRESH-INTERVAL;VALUE=DURATION:PT1H
X-Robots-Tag:noindex
X-PUBLISHED-TTL:PT1H
BEGIN:VTIMEZONE
TZID:Europe/Rome
BEGIN:DAYLIGHT
TZOFFSETFROM:+0100
TZOFFSETTO:+0200
TZNAME:CEST
DTSTART:20220327T010000
END:DAYLIGHT
BEGIN:STANDARD
TZOFFSETFROM:+0200
TZOFFSETTO:+0100
TZNAME:CET
DTSTART:20221030T010000
END:STANDARD
BEGIN:DAYLIGHT
TZOFFSETFROM:+0100
TZOFFSETTO:+0200
TZNAME:CEST
DTSTART:20230326T010000
END:DAYLIGHT
BEGIN:STANDARD
TZOFFSETFROM:+0200
TZOFFSETTO:+0100
TZNAME:CET
DTSTART:20231029T010000
END:STANDARD
BEGIN:DAYLIGHT
TZOFFSETFROM:+0100
TZOFFSETTO:+0200
TZNAME:CEST
DTSTART:20240331T010000
END:DAYLIGHT
BEGIN:STANDARD
TZOFFSETFROM:+0200
TZOFFSETTO:+0100
TZNAME:CET
DTSTART:20241027T010000
END:STANDARD
END:VTIMEZONE
BEGIN:VEVENT
DTSTART;TZID=Europe/Rome:20231204T100000
DTEND;TZID=Europe/Rome:20231204T110000
DTSTAMP:20260420T071148
CREATED:20231124T083847Z
LAST-MODIFIED:20231124T083854Z
UID:10000413-1701684000-1701687600@neinformatica.it
SUMMARY:Trasforma la gestione della tua azienda in una leva essenziale per la crescita del business
DESCRIPTION:TeamSystem Enterprise è il software gestionale  che ti permette di gestire efficacemente tutti processi aziendali  \n\n\n\nL’obiettivo del webinar sarà quello di darti una visione generale del software e farti conoscere una soluzione pensata per il business delle aziende che affrontano la trasformazione digitale: vicine al mercato\, alla ricerca di obiettivi sfidanti\, con il controllo totale delle proprie performance e senza dimenticare la totale conformità alle normative vigenti. \n\n\n\n\n\n\n\nProgramma del webinar:  \n\n\n\n\nTeamSystem Enterprise\n\n\n\nFocus live sulla soluzione\n\n\n\nDematerializzazione Documentale\n\n\n\nIntelligenza Artificiale\n\n\n\n\nSe sei curioso di scoprire di più partecipa al webinar GRATUITO lasciando i tuoi dati qui sotto. \n\n\n\nRiceverai una e-mail con il link e le istruzioni per il collegamento entro il giorno stesso del webinar (15 minuti prima del suo inizio) \n\n\n\nPer eventuali problemi tecnici o per ricevere maggiori informazioni non esitare a contattarci all’indirizzo email marketing@neinformatica.it
URL:https://neinformatica.it/webinar/trasforma-la-gestione-della-tua-azienda-in-una-leva-essenziale-per-la-crescita-del-business-5/
CATEGORIES:Gestionali
ATTACH;FMTTYPE=image/webp:https://neinformatica.it/wp-content/uploads/2023/03/WEBINAR-AZIENDE_TS-ENTERPRISE.webp
END:VEVENT
BEGIN:VEVENT
DTSTART;TZID=Europe/Rome:20231212T100000
DTEND;TZID=Europe/Rome:20231212T110000
DTSTAMP:20260420T071148
CREATED:20231124T085229Z
LAST-MODIFIED:20231124T085235Z
UID:10000414-1702375200-1702378800@neinformatica.it
SUMMARY:Semplifica e velocizza i processi amministrativo contabili della tua azienda
DESCRIPTION:Il software gestionale TeamSystem Enterprise è la soluzione pensata per le aziende che affrontano la trasformazione digitale. \n\n\n\nScopri come grazie all’ area Finance di TeamSystem Enterprise garantisci una corretta amministrazione dei documenti che transitano in Azienda  \n\n\n\n \n\n\n\n\n\n\n\nProgramma del webinar:  \n\n\n\n\nTeamsystem Enterprise\n\n\n\nFocus prodotto- Area Finance Teamsystem Enterprise \n\n\n\nDematerializzazione documentale\n\n\n\nIntelligenza artificiale\n\n\n\n\nSe sei curioso di scopire di più partecipa al webinar GRATUITO  \n\n\n\nIscriviti cliccando sul bottone.  \n\n\n\nRiceverai una e-mail con il link e le istruzioni per il collegamento entro il giorno stesso del webinar (15 minuti prima del suo inizio) \n\n\n\nPer eventuali problemi tecnici o per ricevere maggiori informazioni non esitare a contattarci all’indirizzo email marketing@neinformatica.it
URL:https://neinformatica.it/webinar/semplifica-e-velocizza-i-processi-amministrativo-contabili-della-tua-azienda-3/
CATEGORIES:Gestionali
ATTACH;FMTTYPE=image/jpeg:https://neinformatica.it/wp-content/uploads/2022/12/Teamsystem-Enterprise_webinar.jpeg
END:VEVENT
END:VCALENDAR