BEGIN:VCALENDAR
VERSION:2.0
PRODID:-//NordEst Informatica - ECPv6.15.20//NONSGML v1.0//EN
CALSCALE:GREGORIAN
METHOD:PUBLISH
X-WR-CALNAME:NordEst Informatica
X-ORIGINAL-URL:https://neinformatica.it
X-WR-CALDESC:Eventi per NordEst Informatica
REFRESH-INTERVAL;VALUE=DURATION:PT1H
X-Robots-Tag:noindex
X-PUBLISHED-TTL:PT1H
BEGIN:VTIMEZONE
TZID:Europe/Rome
BEGIN:DAYLIGHT
TZOFFSETFROM:+0100
TZOFFSETTO:+0200
TZNAME:CEST
DTSTART:20220327T010000
END:DAYLIGHT
BEGIN:STANDARD
TZOFFSETFROM:+0200
TZOFFSETTO:+0100
TZNAME:CET
DTSTART:20221030T010000
END:STANDARD
BEGIN:DAYLIGHT
TZOFFSETFROM:+0100
TZOFFSETTO:+0200
TZNAME:CEST
DTSTART:20230326T010000
END:DAYLIGHT
BEGIN:STANDARD
TZOFFSETFROM:+0200
TZOFFSETTO:+0100
TZNAME:CET
DTSTART:20231029T010000
END:STANDARD
BEGIN:DAYLIGHT
TZOFFSETFROM:+0100
TZOFFSETTO:+0200
TZNAME:CEST
DTSTART:20240331T010000
END:DAYLIGHT
BEGIN:STANDARD
TZOFFSETFROM:+0200
TZOFFSETTO:+0100
TZNAME:CET
DTSTART:20241027T010000
END:STANDARD
END:VTIMEZONE
BEGIN:VEVENT
DTSTART;TZID=Europe/Rome:20230307T100000
DTEND;TZID=Europe/Rome:20230307T110000
DTSTAMP:20260420T214315
CREATED:20230224T084943Z
LAST-MODIFIED:20230621T154109Z
UID:10000348-1678183200-1678186800@neinformatica.it
SUMMARY:Gestisci il tuo business in un unico ambiente\, sicuro e in Cloud!
DESCRIPTION:Partecipa al webinar e scopri come il software gestionale in Cloud TeamSystem Enterprise Cloud può diventare lo strumento indispensabile per la gestione del tuo business.  \n\n\n\nAnche lo smart working non sarà più un problema: sarai sempre connesso alla tua azienda ovunque vorrai.  \n\n\n\n\n\n\n\nProgramma:  \n\n\n\n\nCloud e Digitalizzazione in Italia\n\n\n\nI vantaggi del Cloud\n\n\n\nFocus di Prodotto: TeamSystem Enterprise Cloud\n\n\n\n\nObiettivi del webinar: Prendere visione dei vantaggi dell’utilizzo di una soluzione in Cloud \n\n\n\n\nZero costi di infrastruttura hardware\n\n\n\nPartenza Rapida: riduci al minimo i tempi di configurazione e parametrizzazione dell’applicazione\n\n\n\nSoftware gestionale sempre aggiornato\n\n\n\nUser Experience semplice ed innovativa\n\n\n\n\nIscriviti compilando la form sottostante. \n\n\n\nRiceverai una e-mail con il link e le istruzioni per il collegamento entro il giorno stesso del webinar (15 minuti prima del suo inizio). \n\n\n\nPer eventuali problemi tecnici o per ricevere maggiori informazioni non esitare a contattarci all’indirizzo email marketing@neinformatica.it
URL:https://neinformatica.it/webinar/gestisci-il-tuo-business-in-un-unico-ambiente-sicuro-e-in-cloud-2/
CATEGORIES:Gestionali
ATTACH;FMTTYPE=image/jpeg:https://neinformatica.it/wp-content/uploads/2023/06/TS_ENT_Cloud_2021-m.jpg
END:VEVENT
END:VCALENDAR