BEGIN:VCALENDAR
VERSION:2.0
PRODID:-//NordEst Informatica - ECPv6.15.20//NONSGML v1.0//EN
CALSCALE:GREGORIAN
METHOD:PUBLISH
X-ORIGINAL-URL:https://neinformatica.it
X-WR-CALDESC:Eventi per NordEst Informatica
REFRESH-INTERVAL;VALUE=DURATION:PT1H
X-Robots-Tag:noindex
X-PUBLISHED-TTL:PT1H
BEGIN:VTIMEZONE
TZID:Europe/Rome
BEGIN:DAYLIGHT
TZOFFSETFROM:+0100
TZOFFSETTO:+0200
TZNAME:CEST
DTSTART:20230326T010000
END:DAYLIGHT
BEGIN:STANDARD
TZOFFSETFROM:+0200
TZOFFSETTO:+0100
TZNAME:CET
DTSTART:20231029T010000
END:STANDARD
BEGIN:DAYLIGHT
TZOFFSETFROM:+0100
TZOFFSETTO:+0200
TZNAME:CEST
DTSTART:20240331T010000
END:DAYLIGHT
BEGIN:STANDARD
TZOFFSETFROM:+0200
TZOFFSETTO:+0100
TZNAME:CET
DTSTART:20241027T010000
END:STANDARD
BEGIN:DAYLIGHT
TZOFFSETFROM:+0100
TZOFFSETTO:+0200
TZNAME:CEST
DTSTART:20250330T010000
END:DAYLIGHT
BEGIN:STANDARD
TZOFFSETFROM:+0200
TZOFFSETTO:+0100
TZNAME:CET
DTSTART:20251026T010000
END:STANDARD
END:VTIMEZONE
BEGIN:VEVENT
DTSTART;TZID=Europe/Rome:20240118T100000
DTEND;TZID=Europe/Rome:20240118T110000
DTSTAMP:20260421T012409
CREATED:20240102T142250Z
LAST-MODIFIED:20240102T142257Z
UID:10000419-1705572000-1705575600@neinformatica.it
SUMMARY:TS Signature\, la firma elettronica ancora più vicina alle esigenze di PMI e Grandi aziende
DESCRIPTION:Scopri TeamSystem Digital Signature  la soluzione di firma elettronica vicina alle esigenze di PMI e Grandi Aziende. \n\n\n\n\n\n\n\nProgramma: \n\n\n\n\nIntroduzione alla piattaforma modulare\n\n\n\nCenni su onboarding e conservazione digitale \n\n\n\nProcessi e tipologia di firme disponibili \n\n\n\nCasi d’Uso\n\n\n\n\nDurante il webinar ti mostreremo:  \n\n\n\n\nla nostra piattaforma autonoma\, Cloud\, di semplice utilizzo e veloce adozione; \n\n\n\nil modulo di firma nativamente integrato nel tuo gestionale TeamSystem; \n\n\n\nuna soluzione di firma custom ad integrazione su software di terze parti.\n\n\n\n\nSe sei curioso di scoprire di più partecipa al webinar GRATUITO lasciando i tuoi dati qui sotto. \n\n\n\nRiceverai una e-mail con il link e le istruzioni per il collegamento entro il giorno stesso del webinar (15 minuti prima del suo inizio) \n\n\n\nPer eventuali problemi tecnici o per ricevere maggiori informazioni non esitare a contattarci all’indirizzo email marketing@neinformatica.it
URL:https://neinformatica.it/webinar/ts-signature-la-firma-elettronica-ancora-piu-vicina-alle-esigenze-di-pmi-e-grandi-aziende-5/
CATEGORIES:Digitalizzazione
ATTACH;FMTTYPE=image/jpeg:https://neinformatica.it/wp-content/uploads/2023/01/TS_DIGITAL-SIGN-scaled.jpg
END:VEVENT
END:VCALENDAR