BEGIN:VCALENDAR
VERSION:2.0
PRODID:-//NordEst Informatica - ECPv6.15.20//NONSGML v1.0//EN
CALSCALE:GREGORIAN
METHOD:PUBLISH
X-WR-CALNAME:NordEst Informatica
X-ORIGINAL-URL:https://neinformatica.it
X-WR-CALDESC:Eventi per NordEst Informatica
REFRESH-INTERVAL;VALUE=DURATION:PT1H
X-Robots-Tag:noindex
X-PUBLISHED-TTL:PT1H
BEGIN:VTIMEZONE
TZID:Europe/Rome
BEGIN:DAYLIGHT
TZOFFSETFROM:+0100
TZOFFSETTO:+0200
TZNAME:CEST
DTSTART:20230326T010000
END:DAYLIGHT
BEGIN:STANDARD
TZOFFSETFROM:+0200
TZOFFSETTO:+0100
TZNAME:CET
DTSTART:20231029T010000
END:STANDARD
BEGIN:DAYLIGHT
TZOFFSETFROM:+0100
TZOFFSETTO:+0200
TZNAME:CEST
DTSTART:20240331T010000
END:DAYLIGHT
BEGIN:STANDARD
TZOFFSETFROM:+0200
TZOFFSETTO:+0100
TZNAME:CET
DTSTART:20241027T010000
END:STANDARD
BEGIN:DAYLIGHT
TZOFFSETFROM:+0100
TZOFFSETTO:+0200
TZNAME:CEST
DTSTART:20250330T010000
END:DAYLIGHT
BEGIN:STANDARD
TZOFFSETFROM:+0200
TZOFFSETTO:+0100
TZNAME:CET
DTSTART:20251026T010000
END:STANDARD
END:VTIMEZONE
BEGIN:VEVENT
DTSTART;TZID=Europe/Rome:20240415T100000
DTEND;TZID=Europe/Rome:20240415T110000
DTSTAMP:20260420T132116
CREATED:20240318T094500Z
LAST-MODIFIED:20240318T094510Z
UID:10000440-1713175200-1713178800@neinformatica.it
SUMMARY:TeamSystem Signature: scopri l'integrazione con gli ERP TeamSystem!
DESCRIPTION:Partecipa al webinar e scopri TeamSystem Digital Signature  la Firma Elettronica di TeamSystem che risponde a tutti i requisiti previsti dalle norme e dai regolamenti di riferimento attraverso la gestione di diverse tipologie di firma: semplice\, avanzata o qualificata. \n\n\n\nLa firma elettronica integrata negli ERP TeamSystem consente di firmare documenti di ciclo attivo e ciclo passivo: offerte\, ordini\, DDT di consegna\, contratti di vendita o fornitura.   \n\n\n\n\n\n\n\n \n\n\n\nProgramma: \n\n\n\n\nLa firma elettronica nel contesto normativo\n\n\n\nFunzionalità della piattaforma Cloud\n\n\n\nDemo: Signature integrata in TS Enterprise e TS DMS\n\n\n\n\n \n\n\n\nL’obiettivo del webinar è approfondire come la soluzione Signature possa rispondere a qualsiasi tua necessità\, onboarding del firmatario e conservazione digitale compresi. \n\n\n\nSe sei curioso di scoprire di più partecipa al webinar GRATUITO lasciando i tuoi dati qui sotto. \n\n\n\nRiceverai una e-mail con il link e le istruzioni per il collegamento entro il giorno stesso del webinar (15 minuti prima del suo inizio) \n\n\n\nPer eventuali problemi tecnici o per ricevere maggiori informazioni non esitare a contattarci all’indirizzo email marketing@neinformatica.it
URL:https://neinformatica.it/webinar/teamsystem-signature-scopri-lintegrazione-con-gli-erp-teamsystem/
CATEGORIES:Digitalizzazione
ATTACH;FMTTYPE=image/jpeg:https://neinformatica.it/wp-content/uploads/2023/01/TS_DIGITAL-SIGN-scaled.jpg
END:VEVENT
BEGIN:VEVENT
DTSTART;TZID=Europe/Rome:20240424T093000
DTEND;TZID=Europe/Rome:20240424T103000
DTSTAMP:20260420T132116
CREATED:20240315T091134Z
LAST-MODIFIED:20240315T091143Z
UID:10000439-1713951000-1713954600@neinformatica.it
SUMMARY:La soluzione per il monitoraggio della salute d'impresa
DESCRIPTION:Partecipa al webinar e scopri Check Up Impresa\, la soluzione che permette il monitoraggio dell’equilibrio economico – finanziario e ambientale dell’Azienda. \n\n\n\nIl webinar si rivolge alle Aziende clienti che desiderano monitorare autonomamente gli indicatori di crisi e di sostenibilità secondo i principi ESG (ambientali\, sociali e di governance) e predisporre le informazioni da condividere con il proprio Commercialista e con Sindaci e Revisori \n\n\n\n\n\n\n\nProgramma:  \n\n\n\n\nCome prevenire la crisi: consulenza costante e adeguamento normativo\n\n\n\nLa soluzione TeamSystem: la copertura funzionale e i vantaggi\n\n\n\nL’analisi ESG per monitorare la sostenibilità delle Aziende\n\n\n\nDomande e risposte\n\n\n\n\nIl webinar permetterà di acquisire informazioni su come monitorare costantemente l’equilibrio economico-finanziario e di sostenibilità aziendale attraverso uno strumento in cloud\, integrato con i gestionali e facile da utilizzare. \n\n\n\nSe sei curioso di scoprire di più partecipa al webinar GRATUITO lasciando i tuoi dati qui sotto. \n\n\n\nRiceverai una e-mail con il link e le istruzioni per il collegamento entro il giorno stesso del webinar (15 minuti prima del suo inizio) \n\n\n\nPer eventuali problemi tecnici o per ricevere maggiori informazioni non esitare a contattarci all’indirizzo email marketing@neinformatica.it
URL:https://neinformatica.it/webinar/la-soluzione-per-il-monitoraggio-della-salute-dimpresa-7/
CATEGORIES:Digitalizzazione
ATTACH;FMTTYPE=image/jpeg:https://neinformatica.it/wp-content/uploads/2023/09/WEBINAR-AZIENDE_CHECK-UP-IMPRESA_.jpg
END:VEVENT
END:VCALENDAR